BEGIN:VCALENDAR
VERSION:2.0
PRODID:-//rfr/addtomycal//NONSGML v1.0//EN
BEGIN:VEVENT
UID:rouen.fr
DTSTAMP:20260422T070523Z
DTSTART:20230615T120000Z
DTEND:20230615T143000Z
SUMMARY:L'Armada en ville - Randonnée "Mourir sur Seine : sur les traces du roman de Michel Bussi"
DESCRIPTION:visite - Randonnée
 - tout public - Gratuit, sur inscription
 - Inscriptions au 06 11 19 29 04 ou par mail à rouenencouleurs@gmail.com
Rens. : https:
LOCATION:
END:VEVENT
END:VCALENDAR
