BEGIN:VCALENDAR
VERSION:2.0
PRODID:-//rfr/addtomycal//NONSGML v1.0//EN
BEGIN:VEVENT
UID:rouen.fr
DTSTAMP:20260424T202454Z
DTSTART:20230617T080000Z
DTEND:20230617T080000Z
SUMMARY:L'Armada en ville - Atelier Langue des signes
DESCRIPTION:atelier - Atelier
 - tout public - Gratuit, dans la limite des places disponibles
 - Rens. : www.rouen.fr
LOCATION:village-armada
 - Sensibilisation
END:VEVENT
END:VCALENDAR
