BEGIN:VCALENDAR
VERSION:2.0
PRODID:-//rfr/addtomycal//NONSGML v1.0//EN
BEGIN:VEVENT
UID:rouen.fr
DTSTAMP:20260421T081821Z
DTSTART:20230617T130000Z
DTEND:20230617T150000Z
SUMMARY:L'Armada en ville - Juke Box vivant
DESCRIPTION:musique - Animation
 - tout public - Gratuit, dans la limite des places disponibles
 - Rens. : www.rouen.fr
LOCATION:village-armada
 - Par Balidas

END:VEVENT
END:VCALENDAR
