BEGIN:VCALENDAR
VERSION:2.0
PRODID:-//rfr/addtomycal//NONSGML v1.0//EN
BEGIN:VEVENT
UID:rouen.fr
DTSTAMP:20260425T111003Z
DTSTART:20230617T160000Z
DTEND:20230617T160000Z
SUMMARY:Bon ? Hein ! Eh ! Oh !
DESCRIPTION:spectacle - Clown
 - tout public - Au chapeau
 - Rens. : par téléphone au 06 87 06 53 32, par mail à fabrikclowns@orange.fr et sur https:
LOCATION:
END:VEVENT
END:VCALENDAR
