BEGIN:VCALENDAR
VERSION:2.0
PRODID:-//rfr/addtomycal//NONSGML v1.0//EN
BEGIN:VEVENT
UID:rouen.fr
DTSTAMP:20260419T170808Z
DTSTART:20230620T073000Z
DTEND:20230620T090000Z
SUMMARY:Marche rapide et découverte de lieux insolites à Rouen
DESCRIPTION:visite - Visite
 - senior - Sur inscription au 02 32 08 60 80
 - Rdv 10 minutes avant
 - Thème : Rouen en musique

LOCATION:Départ de la Maison des aînés, 24 rue des Arsins
, Rouen
END:VEVENT
END:VCALENDAR
