BEGIN:VCALENDAR
VERSION:2.0
PRODID:-//rfr/addtomycal//NONSGML v1.0//EN
BEGIN:VEVENT
UID:rouen.fr
DTSTAMP:20260421T155929Z
DTSTART:20230621T150000Z
DTEND:20230621T150000Z
SUMMARY:Hopeful Skankers Sound System feat Iyah Ruben + Meladub + Golden Bird feat Aïni
DESCRIPTION:musique - Fête de la musique
 - tout public - Gratuit
 -  - 
LOCATION:Social Perk, 43 rue de la Tour de Beurre, Rouen
END:VEVENT
END:VCALENDAR
