BEGIN:VCALENDAR
VERSION:2.0
PRODID:-//rfr/addtomycal//NONSGML v1.0//EN
BEGIN:VEVENT
UID:rouen.fr
DTSTAMP:20260419T230100Z
DTSTART:20230621T180000Z
DTEND:20230621T180000Z
SUMMARY:Chorale Par Chœur
DESCRIPTION:musique - Fête de la musique
 - tout public - Gratuit
 -  - 
LOCATION:Magasin coopératif et participatif, 22 rue Molien, Rouen
END:VEVENT
END:VCALENDAR
