BEGIN:VCALENDAR
VERSION:2.0
PRODID:-//rfr/addtomycal//NONSGML v1.0//EN
BEGIN:VEVENT
UID:rouen.fr
DTSTAMP:20260421T035456Z
DTSTART:20230708T120000Z
DTEND:20230708T170000Z
SUMMARY:Rouen sur mer - Jeux de dames
DESCRIPTION:sport - Rouen sur mer
 - tout public - Gratuit
 - Rens. : https:
LOCATION:
END:VEVENT
END:VCALENDAR
