BEGIN:VCALENDAR
VERSION:2.0
PRODID:-//rfr/addtomycal//NONSGML v1.0//EN
BEGIN:VEVENT
UID:rouen.fr
DTSTAMP:20260425T191110Z
DTSTART:20230718T120000Z
DTEND:20230718T133000Z
SUMMARY:Réflexologie des mains en duo
DESCRIPTION:atelier - Atelier
 - senior - Sur inscription au 02 32 08 60 80
 -  - 
LOCATION:Maison des aînés, 24 rue des Arsins, Rouen
END:VEVENT
END:VCALENDAR
