BEGIN:VCALENDAR
VERSION:2.0
PRODID:-//rfr/addtomycal//NONSGML v1.0//EN
BEGIN:VEVENT
UID:rouen.fr
DTSTAMP:20260420T153227Z
DTSTART:20230718T123000Z
DTEND:20230718T140000Z
SUMMARY:Un été au jardin - Tour du monde de l'eau : voyage au Japon à la découverte des carpe koï
DESCRIPTION:atelier - Atelier
 - tout public - Gratuit, dans la limite des places disponibles
 - Rens. : https:
LOCATION:
END:VEVENT
END:VCALENDAR
