BEGIN:VCALENDAR
VERSION:2.0
PRODID:-//rfr/addtomycal//NONSGML v1.0//EN
BEGIN:VEVENT
UID:rouen.fr
DTSTAMP:20260422T021626Z
DTSTART:20230720T130000Z
DTEND:20230720T140000Z
SUMMARY:Loto
DESCRIPTION:rencontre - Jeux
 - senior - Participation : 2 €
 - Inscription au 02 35 72 01 73
 - 
LOCATION:EHPAD La Pléiade, 16 rue Jacques Fouray, Rouen
END:VEVENT
END:VCALENDAR
