BEGIN:VCALENDAR
VERSION:2.0
PRODID:-//rfr/addtomycal//NONSGML v1.0//EN
BEGIN:VEVENT
UID:rouen.fr
DTSTAMP:20260423T123616Z
DTSTART:20230721T130000Z
DTEND:20230721T150000Z
SUMMARY:Rouen sur mer - Massages contés en famille
DESCRIPTION:atelier - Rouen sur mer
 - tout public - Gratuit, sur inscription à l'accueil
 - Rens. : https:
LOCATION:
END:VEVENT
END:VCALENDAR
