BEGIN:VCALENDAR
VERSION:2.0
PRODID:-//rfr/addtomycal//NONSGML v1.0//EN
BEGIN:VEVENT
UID:rouen.fr
DTSTAMP:20260420T120417Z
DTSTART:20230723T150000Z
DTEND:20230723T150000Z
SUMMARY:Jours de fête - Bonnes nouvelles
DESCRIPTION:spectacle - Théâtre musical de rue
 - tout public - Gratuit, dans la limite des places disponibles
 - Rens. : https:
LOCATION:
END:VEVENT
END:VCALENDAR
