BEGIN:VCALENDAR
VERSION:2.0
PRODID:-//rfr/addtomycal//NONSGML v1.0//EN
BEGIN:VEVENT
UID:rouen.fr
DTSTAMP:20260420T073731Z
DTSTART:20230728T073000Z
DTEND:20230728T090000Z
SUMMARY:Marche rapide et découverte de lieux insolites à Rouen
DESCRIPTION:visite - Visite
 - senior - Sur inscription au 02 32 08 60 80
 -  - Rdv 10 minutes avant le début pour le départ
Thème : "Enseignes à l'ancienne : très visuel et ludique, redécouvrez le commerce rouennais du Moyen-Âge à nos jours au travers des enseignes d'hier et d'aujourd'hui"

LOCATION:Départ de la Maison des aînés, 24 rue des Arsins, Rouen
END:VEVENT
END:VCALENDAR
