BEGIN:VCALENDAR
VERSION:2.0
PRODID:-//rfr/addtomycal//NONSGML v1.0//EN
BEGIN:VEVENT
UID:rouen.fr
DTSTAMP:20260422T085504Z
DTSTART:20230729T123000Z
DTEND:20230729T163000Z
SUMMARY:Rouen sur mer - Escape Game "L'ensorceleuse"
DESCRIPTION:atelier - Rouen sur mer
 - tout public - Gratuit, sur inscription à l'accueil
 - Rens. : https:
LOCATION:
END:VEVENT
END:VCALENDAR
