BEGIN:VCALENDAR
VERSION:2.0
PRODID:-//rfr/addtomycal//NONSGML v1.0//EN
BEGIN:VEVENT
UID:rouen.fr
DTSTAMP:20260424T220014Z
DTSTART:20230730T160000Z
DTEND:20230730T164500Z
SUMMARY:Rouen sur mer - Walkin'
DESCRIPTION:musique - Rouen sur mer
 - tout public - Gratuit
 - Rens. : https:
LOCATION:
END:VEVENT
END:VCALENDAR
