BEGIN:VCALENDAR
VERSION:2.0
PRODID:-//rfr/addtomycal//NONSGML v1.0//EN
BEGIN:VEVENT
UID:rouen.fr
DTSTAMP:20260422T180230Z
DTSTART:20230913T080000Z
DTEND:20230913T160000Z
SUMMARY:Journée des enfants
DESCRIPTION:fête populaire - Animation
 - enfant - Gratuit
 -  - Proposé par le Centre André-Malraux
Animations ludiques et sportives (babyfoot humain, accrobranche, goûter offert)

LOCATION:Centre commercial de la Grand'Mare
, Rouen
END:VEVENT
END:VCALENDAR
