BEGIN:VCALENDAR
VERSION:2.0
PRODID:-//rfr/addtomycal//NONSGML v1.0//EN
BEGIN:VEVENT
UID:rouen.fr
DTSTAMP:20260420T122224Z
DTSTART:20230916T113000Z
DTEND:20230916T150000Z
SUMMARY:Atelier masque : ton être vivant
DESCRIPTION:atelier - Journées du Patrimoine
 - enfant - Gratuit
 - Rens. : https:
LOCATION:
END:VEVENT
END:VCALENDAR
