BEGIN:VCALENDAR
VERSION:2.0
PRODID:-//rfr/addtomycal//NONSGML v1.0//EN
BEGIN:VEVENT
UID:rouen.fr
DTSTAMP:20260422T061041Z
DTSTART:20230916T173000Z
DTEND:20230916T190000Z
SUMMARY:Orchestre du Nouveau Monde
DESCRIPTION:musique - Concert
 - tout public - Gratuit, sur inscription
 - Rens. : https:
LOCATION:
END:VEVENT
END:VCALENDAR
