BEGIN:VCALENDAR
VERSION:2.0
PRODID:-//rfr/addtomycal//NONSGML v1.0//EN
BEGIN:VEVENT
UID:rouen.fr
DTSTAMP:20260419T133836Z
DTSTART:20230917T080000Z
DTEND:20230917T093000Z
SUMMARY:Atelier - Vases grecs
DESCRIPTION:atelier - Journées du Patrimoine
 - enfant - Gratuit
 - Rens. : https:
LOCATION:
END:VEVENT
END:VCALENDAR
