BEGIN:VCALENDAR
VERSION:2.0
PRODID:-//rfr/addtomycal//NONSGML v1.0//EN
BEGIN:VEVENT
UID:rouen.fr
DTSTAMP:20260425T204133Z
DTSTART:20230917T120000Z
DTEND:20230917T153000Z
SUMMARY:Atelier - Étendards, blasons, bannières
DESCRIPTION:atelier - Journées du Patrimoine
 - enfant - Gratuit
 - Rens. : https:
LOCATION:
END:VEVENT
END:VCALENDAR
