BEGIN:VCALENDAR
VERSION:2.0
PRODID:-//rfr/addtomycal//NONSGML v1.0//EN
BEGIN:VEVENT
UID:rouen.fr
DTSTAMP:20260421T140251Z
DTSTART:20230921T080000Z
DTEND:20230921T080000Z
SUMMARY:Conférence sur la mémoire 
DESCRIPTION:conférence - Conférence
 - tout public - Gratuit
 - Rens. : 02 35 70 64 54 et www.bridgeclubmsa.com
 - 
LOCATION:Bridge club de Mont-Saint-Aignan, 88 rue des Bulins, Mont-Saint-Aignan
END:VEVENT
END:VCALENDAR
