BEGIN:VCALENDAR
VERSION:2.0
PRODID:-//rfr/addtomycal//NONSGML v1.0//EN
BEGIN:VEVENT
UID:rouen.fr
DTSTAMP:20260420T204641Z
DTSTART:20230921T183000Z
DTEND:20230921T183000Z
SUMMARY:Doully - Hier j'arrête !
DESCRIPTION:spectacle - Humour
 - tout public - 29 €
 - Rens. : https:
LOCATION:
END:VEVENT
END:VCALENDAR
