BEGIN:VCALENDAR
VERSION:2.0
PRODID:-//rfr/addtomycal//NONSGML v1.0//EN
BEGIN:VEVENT
UID:rouen.fr
DTSTAMP:20260421T185333Z
DTSTART:20230923T090000Z
DTEND:20230923T090000Z
SUMMARY:Présentation du palmarès des Défricheurs de la rentrée littéraire
DESCRIPTION:rencontre - Présentation
 - tout public - Gratuit, sur inscription
 - Inscriptions sur https:
LOCATION:
END:VEVENT
END:VCALENDAR
