BEGIN:VCALENDAR
VERSION:2.0
PRODID:-//rfr/addtomycal//NONSGML v1.0//EN
BEGIN:VEVENT
UID:rouen.fr
DTSTAMP:20260420T074249Z
DTSTART:20230929T183000Z
DTEND:20230929T200000Z
SUMMARY:Nuit "One Piece"
DESCRIPTION:rencontre - Animation
 - tout public - Gratuit, sur inscription
 - Rens. : https:
LOCATION:
END:VEVENT
END:VCALENDAR
