BEGIN:VCALENDAR
VERSION:2.0
PRODID:-//rfr/addtomycal//NONSGML v1.0//EN
BEGIN:VEVENT
UID:rouen.fr
DTSTAMP:20260420T074105Z
DTSTART:20230930T080000Z
DTEND:20230930T160000Z
SUMMARY:Vente de solidarité
DESCRIPTION:salon - Expo-vente
 - tout public - Accès libre
 - Rens. : 06 89 29 92 44 et par mail à lydie.p.1@orange.fr
 - Organisé par l'Entraide Protestante en vue de poursuivre sa distribution de colis alimentaires
Meubles, bijoux, linge, vêtements, livres, disques, vaisselle, jouets, électroménager, déco et artisanat

LOCATION:Maison paroissiale, 45 rue de Buffon
, Rouen
END:VEVENT
END:VCALENDAR
