BEGIN:VCALENDAR
VERSION:2.0
PRODID:-//rfr/addtomycal//NONSGML v1.0//EN
BEGIN:VEVENT
UID:rouen.fr
DTSTAMP:20260421T001137Z
DTSTART:20230930T130000Z
DTEND:20230930T130000Z
SUMMARY:Visite ludique - (Re)découvrez les œuvres de Post
DESCRIPTION:visite - Visite
 - tout public - Gratuit, sur inscription
 - Rens. : 02 35 68 98 38 et https:
LOCATION:
END:VEVENT
END:VCALENDAR
