BEGIN:VCALENDAR
VERSION:2.0
PRODID:-//rfr/addtomycal//NONSGML v1.0//EN
BEGIN:VEVENT
UID:rouen.fr
DTSTAMP:20260421T041209Z
DTSTART:20231003T140000Z
DTEND:20231003T160000Z
SUMMARY:Rencontre - Amélie Nothomb
DESCRIPTION:rencontre - Rencontre
 - tout public - Gratuit, sur inscription
 - Rens. : www.armitiere.com
 - À l'occasion de "Psychopompe"

LOCATION:Librairie L'Armitière, 66 rue Jeanne d'Arc
, Rouen
END:VEVENT
END:VCALENDAR
