BEGIN:VCALENDAR
VERSION:2.0
PRODID:-//rfr/addtomycal//NONSGML v1.0//EN
BEGIN:VEVENT
UID:rouen.fr
DTSTAMP:20260420T062501Z
DTSTART:20231003T153000Z
DTEND:20231003T163000Z
SUMMARY:La nuit sans fin
DESCRIPTION:spectacle - Théâtre
 - tout public - Gratuit, sur inscription
 - Rens. : https:
LOCATION:
END:VEVENT
END:VCALENDAR
