BEGIN:VCALENDAR
VERSION:2.0
PRODID:-//rfr/addtomycal//NONSGML v1.0//EN
BEGIN:VEVENT
UID:rouen.fr
DTSTAMP:20260420T205653Z
DTSTART:20231004T120000Z
DTEND:20231004T120000Z
SUMMARY:Élaboration d'un livre de recettes
DESCRIPTION:atelier - Atelier
 - senior - Gratuit, sur inscription
 - Rens. : 02 79 97 08 00 et à domitys.rouen@domitys.fr
 - À l'occasion de la Semaine bleue, semaine nationale des personnes âgées et retraitées
Durée : 2h

LOCATION:Résidence Domitys Les Mosaïques, 64 rue Saint-Julien
, Rouen
END:VEVENT
END:VCALENDAR
