BEGIN:VCALENDAR
VERSION:2.0
PRODID:-//rfr/addtomycal//NONSGML v1.0//EN
BEGIN:VEVENT
UID:rouen.fr
DTSTAMP:20260420T185233Z
DTSTART:20231005T103000Z
DTEND:20231005T103000Z
SUMMARY:Marche midi -découverte
DESCRIPTION:sport - Marche à pied
 - senior - Gratuit, sur inscription
 - Rens. : 02 32 08 60 80
 - À l'occasion de la Semaine bleue, semaine nationale des personnes âgées et retraitées
Durée : 1h

LOCATION:Départ de la Maison des aînés, 24 rue des Arsins
, Rouen
END:VEVENT
END:VCALENDAR
