BEGIN:VCALENDAR
VERSION:2.0
PRODID:-//rfr/addtomycal//NONSGML v1.0//EN
BEGIN:VEVENT
UID:rouen.fr
DTSTAMP:20260420T074027Z
DTSTART:20231006T070000Z
DTEND:20231006T150000Z
SUMMARY:Journée de sensibilisation - Octobre rose
DESCRIPTION:rencontre - Santé
 - tout public - Gratuit (matinée sur réservation)
 - Réserv. : 02 35 08 88 99
 - Avec les associations Mix'Cité, Fraternité banlieue, BVGM et Éducation et Formation
Journée autour de la prévention du cancer du sein
De 9h à 12 : prévention et auto-examen proposé par la Ligue contre le cancer
À 14h : installation d'un nœud humain et flashmob
Vente et buvette solidaires

LOCATION:Centre André-Malraux, rue François Couperin
, Rouen
END:VEVENT
END:VCALENDAR
