BEGIN:VCALENDAR
VERSION:2.0
PRODID:-//rfr/addtomycal//NONSGML v1.0//EN
BEGIN:VEVENT
UID:rouen.fr
DTSTAMP:20260422T004308Z
DTSTART:20231006T120000Z
DTEND:20231006T140000Z
SUMMARY:Atelier de sensibilisation aux éco-gestes : gestion de notre consommation d'eau et d'électricité dans un logement
DESCRIPTION:atelier - Atelier
 - tout public - Gratuit, sur inscription
 - Rens. : https:
LOCATION:
END:VEVENT
END:VCALENDAR
