BEGIN:VCALENDAR
VERSION:2.0
PRODID:-//rfr/addtomycal//NONSGML v1.0//EN
BEGIN:VEVENT
UID:rouen.fr
DTSTAMP:20260421T001207Z
DTSTART:20231014T070000Z
DTEND:20231014T110000Z
SUMMARY:Portes ouvertes - Croix-Rouge Compétence
DESCRIPTION:rencontre - Portes ouvertes
 - tout public - Accès libre, inscription recommandée
 - Inscriptions : https:
LOCATION:
END:VEVENT
END:VCALENDAR
