BEGIN:VCALENDAR
VERSION:2.0
PRODID:-//rfr/addtomycal//NONSGML v1.0//EN
BEGIN:VEVENT
UID:rouen.fr
DTSTAMP:20260421T122020Z
DTSTART:20231017T120000Z
DTEND:20231017T140000Z
SUMMARY:Atelier cuisine - Animation et dégustation à l'aveugle
DESCRIPTION:atelier - Atelier
 - tout public - Gratuit, sur inscription
 - Réserv. : 02 35 08 88 99
 - Avec l'association Fraternité banlieue
À l'occasion de la Semaine du goût

LOCATION:Centre André-Malraux, rue François Couperin
, Rouen
END:VEVENT
END:VCALENDAR
