BEGIN:VCALENDAR
VERSION:2.0
PRODID:-//rfr/addtomycal//NONSGML v1.0//EN
BEGIN:VEVENT
UID:rouen.fr
DTSTAMP:20260421T073601Z
DTSTART:20231022T170000Z
DTEND:20231022T170000Z
SUMMARY:La folle histoire de France - Battle royale
DESCRIPTION:spectacle - Comédie
 - tout public - 22 € (TR 18 €, 12 € pour les - 15 ans)
 - Rens. : https:
LOCATION:
END:VEVENT
END:VCALENDAR
