BEGIN:VCALENDAR
VERSION:2.0
PRODID:-//rfr/addtomycal//NONSGML v1.0//EN
BEGIN:VEVENT
UID:rouen.fr
DTSTAMP:20260420T151342Z
DTSTART:20231024T123000Z
DTEND:20231024T140000Z
SUMMARY:DIY Halloween
DESCRIPTION:atelier - Atelier
 - enfant - 12 €
 - Rens. : 02 76 08 72 67, sur mail associationcitemomes@gmail.com et sur https:
LOCATION:
END:VEVENT
END:VCALENDAR
