BEGIN:VCALENDAR
VERSION:2.0
PRODID:-//rfr/addtomycal//NONSGML v1.0//EN
BEGIN:VEVENT
UID:rouen.fr
DTSTAMP:20260420T154006Z
DTSTART:20231025T083000Z
DTEND:20231025T091500Z
SUMMARY:Atelier baby-gym parent
DESCRIPTION:enfant
LOCATION:sport - Atelier
 - enfant - 15 € par duo
 - Sur inscription au 02 35 88 09 98
 - Public : 1
END:VEVENT
END:VCALENDAR
