BEGIN:VCALENDAR
VERSION:2.0
PRODID:-//rfr/addtomycal//NONSGML v1.0//EN
BEGIN:VEVENT
UID:rouen.fr
DTSTAMP:20260419T131302Z
DTSTART:20231025T103000Z
DTEND:20231025T140000Z
SUMMARY:Le Min de Rouen vous ouvre ses portes
DESCRIPTION:salon - Portes ouvertes
 - enfant - Gratuit, sur inscription
 - Inscriptions avec le code RMG23 sur www.minderouen.fr
 - Événement pour les enfants accompagné de leurs parents
Thème : "D'ou vient ce que je mange ?"
Atelier fruits et légumes, petit train pour visiter le site, découverte des circuits cours, quizz…

LOCATION:Marché d'intérêt national (Min) de Rouen, avenue du Commandant Bicheray
, Rouen
END:VEVENT
END:VCALENDAR
