BEGIN:VCALENDAR
VERSION:2.0
PRODID:-//rfr/addtomycal//NONSGML v1.0//EN
BEGIN:VEVENT
UID:rouen.fr
DTSTAMP:20260421T023223Z
DTSTART:20231025T120000Z
DTEND:20231025T140000Z
SUMMARY:Prévention des arnaques
DESCRIPTION:atelier - Atelier
 - senior - Sur inscription au 02 32 08 60 80
 -  - Intervention de la Police nationale
Recommandations, conseils, comment repérer les fraudes !

LOCATION:Maison des aînés, 24 rue des Arsins, Rouen
END:VEVENT
END:VCALENDAR
