BEGIN:VCALENDAR
VERSION:2.0
PRODID:-//rfr/addtomycal//NONSGML v1.0//EN
BEGIN:VEVENT
UID:rouen.fr
DTSTAMP:20260420T205501Z
DTSTART:20231102T090000Z
DTEND:20231102T090000Z
SUMMARY:Atelier en famille - Cachés…
DESCRIPTION:atelier - Atelier en famille
 - enfant - 4 €
 - Rens. et réservations : https:
LOCATION:
END:VEVENT
END:VCALENDAR
