BEGIN:VCALENDAR
VERSION:2.0
PRODID:-//rfr/addtomycal//NONSGML v1.0//EN
BEGIN:VEVENT
UID:rouen.fr
DTSTAMP:20260421T060121Z
DTSTART:20231118T130000Z
DTEND:20231118T170000Z
SUMMARY:Atelier - Film alimentaire réutilisable + Autopsie d'une poubelle
DESCRIPTION:atelier - Atelier
 - tout public - Gratuit
 - Rens. : https:
LOCATION:
END:VEVENT
END:VCALENDAR
