BEGIN:VCALENDAR
VERSION:2.0
PRODID:-//rfr/addtomycal//NONSGML v1.0//EN
BEGIN:VEVENT
UID:rouen.fr
DTSTAMP:20260423T221058Z
DTSTART:20231118T230000Z
DTEND:20231118T230000Z
SUMMARY:Rencontres normandes de théâtre amateur
DESCRIPTION:spectacle - Festival
 - tout public - Pass festival 30 € ou 7 € par représentation (TR 5 €)
 - Rens. : par mail à theatredenhaut@gmail.com
Réservations : www.helloasso.com
 - Proposé par la Cie du Théâtre d'en Haut
12 pièces à voir

LOCATION:Centre André-Malraux, rue François Couperin
, Rouen
END:VEVENT
END:VCALENDAR
