BEGIN:VCALENDAR
VERSION:2.0
PRODID:-//rfr/addtomycal//NONSGML v1.0//EN
BEGIN:VEVENT
UID:rouen.fr
DTSTAMP:20260425T125458Z
DTSTART:20231124T083000Z
DTEND:20231124T110000Z
SUMMARY:SOS paperasses
DESCRIPTION:atelier - Atelier
 - senior - Sur rendez-vous
 - Prise de rendez-vous au CMS Adeline au 02 35 62 14 40
 - Accompagnement aux démarches administratives

LOCATION:Centre socioculturel Simone-Veil, 74 rue Jules Adeline
, Rouen
END:VEVENT
END:VCALENDAR
