BEGIN:VCALENDAR
VERSION:2.0
PRODID:-//rfr/addtomycal//NONSGML v1.0//EN
BEGIN:VEVENT
UID:rouen.fr
DTSTAMP:20260423T110136Z
DTSTART:20231126T080000Z
DTEND:20231126T170000Z
SUMMARY:Salon de la musique
DESCRIPTION:salon - Musique
 - tout public - 2 €
 - Rens. : https:
LOCATION:
END:VEVENT
END:VCALENDAR
