BEGIN:VCALENDAR
VERSION:2.0
PRODID:-//rfr/addtomycal//NONSGML v1.0//EN
BEGIN:VEVENT
UID:rouen.fr
DTSTAMP:20260420T192440Z
DTSTART:20231130T090000Z
DTEND:20231130T090000Z
SUMMARY:Marche sur les quais
DESCRIPTION:sport - Marche à pied
 - senior - Sur inscription au 02 32 08 60 80
 -  - Durée : 1h30

LOCATION:Rdv sur le pont Corneille
, Rouen
END:VEVENT
END:VCALENDAR
