BEGIN:VCALENDAR
VERSION:2.0
PRODID:-//rfr/addtomycal//NONSGML v1.0//EN
BEGIN:VEVENT
UID:rouen.fr
DTSTAMP:20260424T140613Z
DTSTART:20231130T170000Z
DTEND:20231130T170000Z
SUMMARY:Rencontre - Philippe Dupont
DESCRIPTION:rencontre - Rencontre
 - tout public - Gratuit, sur inscription
 - Inscriptions sur https:
LOCATION:
END:VEVENT
END:VCALENDAR
