BEGIN:VCALENDAR
VERSION:2.0
PRODID:-//rfr/addtomycal//NONSGML v1.0//EN
BEGIN:VEVENT
UID:rouen.fr
DTSTAMP:20260420T205330Z
DTSTART:20231206T143000Z
DTEND:20231206T173000Z
SUMMARY:Refuge givré - C'est toi l'illustrateur
DESCRIPTION:atelier - Rouen givrée
 - enfant - Gratuit, dans la limite des places disponibles
 - Rens. : https:
LOCATION:
END:VEVENT
END:VCALENDAR
