BEGIN:VCALENDAR
VERSION:2.0
PRODID:-//rfr/addtomycal//NONSGML v1.0//EN
BEGIN:VEVENT
UID:rouen.fr
DTSTAMP:20260424T154619Z
DTSTART:20231207T180000Z
DTEND:20231207T180000Z
SUMMARY:Steac Frit - Match d'improvisation théâtrale
DESCRIPTION:spectacle - Théâtre d'improvisation
 - tout public - 5 € (TR 3 €)
 - Rens. : 02 32 76 93 01, par mail à spectacle.culture@univ-rouen.fr et sur https:
LOCATION:
END:VEVENT
END:VCALENDAR
