BEGIN:VCALENDAR
VERSION:2.0
PRODID:-//rfr/addtomycal//NONSGML v1.0//EN
BEGIN:VEVENT
UID:rouen.fr
DTSTAMP:20260422T234047Z
DTSTART:20231209T093000Z
DTEND:20231209T093000Z
SUMMARY:Initiation à la machine à coudre
DESCRIPTION:atelier - Atelier
 - tout public - Gratuit, sur inscription
 - Inscriptions au 02 35 36 95 95
Rens. : https:
LOCATION:
END:VEVENT
END:VCALENDAR
